Workbook

Sheet Wording
A1: Die Schülerin / der Schüler hat Kompass 4 auf dem an der Haupt-, Werkreal-, Real- oder Gemeinschaftsschule zum Hauptschulabschluss führenden grundlegenden Niveau (Niveau G) abgeschlossen.
A2: Die Schülerin / der Schüler hat Kompass 4 auf dem an der Real- oder Gemeinschaftsschule zum Realschulabschluss führenden mittleren Niveau (Niveau M) abgeschlossen.
A3: Die Schülerin / der Schüler hat Kompass 4 auf dem an dem Gymnasium oder der Gemeinschaftsschule zur Hochschulreife führenden erweiterten Niveau (Niveau E) abgeschlossen.

Sheet 1_Daten
B2: Schuljahr | C2: 2024/2025
B3: Name der Schule
B4: Dienststellen-Nr.
B5: Klasse
B6: Klassenlehrkraft
B8: Schülernummer | C8: Namen der SuS
B9: 1
B10: 2
B11: 3
B12: 4
B13: 5
B14: 6
B15: 7
B16: 8
B17: 9
B18: 10
B19: 11
B20: 12
... B40: 32

Sheet 2_Deutsch
A2: Aufgabe | C2: 1 | D2: 2 | E2: 3 | F2: 4a | G2: 4b | H2: 5 | I2: 6 | J2: 7 | K2: 8 | L2: 9 | M2: 10a | N2: 10b | O2: 10c | P2: 11 | Q2: 12 | R2: Gesamtpunktzahl | S2: Prozentwert | T2: Niveau
A3: Deutsch | C3: Lokales Textverständnis | D3: Lokales Textverständnis | E3: Lokales Textverständnis | F3: Globales Textverständnis | G3: Textspezifische Merkmale erfassen | H3: Globales Textverständnis | I3: Regelgeleitete Schreibungen und Merkschreibungen | J3: Groß- und Kleinschreibung | K3: Wort und Wortarten: Wortfamilie | L3: Merkmale für Nomen | M3: Satz und Satzglieder | N3: Satz und Satzglieder | O3: Satz und Satzglieder | P3: Wort und Wortarten: Zeitformen | Q3: Wort und Wortarten: Zeit- und Personalformen
A4: max. Punkte | C4: 1.5 | D4: 2 | E4: 3 | F4: 1 | G4: 2 | H4: 2 | I4: 4 | J4: 2 | K4: 4 | L4: 3 | M4: 1 | N4: 2 | O4: 1 | P4: 1 | Q4: 4 | R4: =SUM(C4:Q4) -> 33.5
A5: =IF(COUNTA('1_Daten'!C9)=1, '1_Daten'!C9,"") | R5: =IF(COUNTA('1_Daten'!C9)=1,SUM(C5:Q5),"") | S5: =IF(COUNTA('1_Daten'!C9)=1,R5/$R$4,"") | T5: =IF(COUNT(S5)=1,IF(S5>=0.695,"E",IF(S5<0.595,"G","M")),"")
A6: =IF(COUNTA('1_Daten'!C10)=1, '1_Daten'!C10,"") | R6: =IF(COUNTA('1_Daten'!C10)=1,SUM(C6:Q6),"") | S6: =IF(COUNTA('1_Daten'!C10)=1,R6/$R$4,"") | T6: =IF(COUNT(S6)=1,IF(S6>=0.695,"E",IF(S6<0.595,"G","M")),"")
A7: =IF(COUNTA('1_Daten'!C11)=1, '1_Daten'!C11,"") | R7: =IF(COUNTA('1_Daten'!C11)=1,SUM(C7:Q7),"") | S7: =IF(COUNTA('1_Daten'!C11)=1,R7/$R$4,"") | T7: =IF(COUNT(S7)=1,IF(S7>=0.695,"E",IF(S7<0.595,"G","M")),"")
A8: =IF(COUNTA('1_Daten'!C12)=1, '1_Daten'!C12,"") | R8: =IF(COUNTA('1_Daten'!C12)=1,SUM(C8:Q8),"") | S8: =IF(COUNTA('1_Daten'!C12)=1,R8/$R$4,"") | T8: =IF(COUNT(S8)=1,IF(S8>=0.695,"E",IF(S8<0.595,"G","M")),"")
A9: =IF(COUNTA('1_Daten'!C13)=1, '1_Daten'!C13,"") | R9: =IF(COUNTA('1_Daten'!C13)=1,SUM(C9:Q9),"") | S9: =IF(COUNTA('1_Daten'!C13)=1,R9/$R$4,"") | T9: =IF(COUNT(S9)=1,IF(S9>=0.695,"E",IF(S9<0.595,"G","M")),"")
A10: =IF(COUNTA('1_Daten'!C14)=1, '1_Daten'!C14,"") | R10: =IF(COUNTA('1_Daten'!C14)=1,SUM(C10:Q10),"") | S10: =IF(COUNTA('1_Daten'!C14)=1,R10/$R$4,"") | T10: =IF(COUNT(S10)=1,IF(S10>=0.695,"E",IF(S10<0.595,"G","M")),"")
A11: =IF(COUNTA('1_Daten'!C15)=1, '1_Daten'!C15,"") | R11: =IF(COUNTA('1_Daten'!C15)=1,SUM(C11:Q11),"") | S11: =IF(COUNTA('1_Daten'!C15)=1,R11/$R$4,"") | T11: =IF(COUNT(S11)=1,IF(S11>=0.695,"E",IF(S11<0.595,"G","M")),"")
A12: =IF(COUNTA('1_Daten'!C16)=1, '1_Daten'!C16,"") | R12: =IF(COUNTA('1_Daten'!C16)=1,SUM(C12:Q12),"") | S12: =IF(COUNTA('1_Daten'!C16)=1,R12/$R$4,"") | T12: =IF(COUNT(S12)=1,IF(S12>=0.695,"E",IF(S12<0.595,"G","M")),"")
A13: =IF(COUNTA('1_Daten'!C17)=1, '1_Daten'!C17,"") | R13: =IF(COUNTA('1_Daten'!C17)=1,SUM(C13:Q13),"") | S13: =IF(COUNTA('1_Daten'!C17)=1,R13/$R$4,"") | T13: =IF(COUNT(S13)=1,IF(S13>=0.695,"E",IF(S13<0.595,"G","M")),"")
A14: =IF(COUNTA('1_Daten'!C18)=1, '1_Daten'!C18,"") | R14: =IF(COUNTA('1_Daten'!C18)=1,SUM(C14:Q14),"") | S14: =IF(COUNTA('1_Daten'!C18)=1,R14/$R$4,"") | T14: =IF(COUNT(S14)=1,IF(S14>=0.695,"E",IF(S14<0.595,"G","M")),"")
A15: =IF(COUNTA('1_Daten'!C19)=1, '1_Daten'!C19,"") | R15: =IF(COUNTA('1_Daten'!C19)=1,SUM(C15:Q15),"") | S15: =IF(COUNTA('1_Daten'!C19)=1,R15/$R$4,"") | T15: =IF(COUNT(S15)=1,IF(S15>=0.695,"E",IF(S15<0.595,"G","M")),"")
A16: =IF(COUNTA('1_Daten'!C20)=1, '1_Daten'!C20,"") | R16: =IF(COUNTA('1_Daten'!C20)=1,SUM(C16:Q16),"") | S16: =IF(COUNTA('1_Daten'!C20)=1,R16/$R$4,"") | T16: =IF(COUNT(S16)=1,IF(S16>=0.695,"E",IF(S16<0.595,"G","M")),"")
... A36: =IF(COUNTA('1_Daten'!C40)=1, '1_Daten'!C40,"") | R36: =IF(COUNTA('1_Daten'!C40)=1,SUM(C36:Q36),"") | S36: =IF(COUNTA('1_Daten'!C40)=1,R36/$R$4,"") | T36: =IF(COUNT(S36)=1,IF(S36>=0.695,"E",IF(S36<0.595,"G","M")),"")
A37: Klasse (⌀) | C37: =IF(COUNT(C5:C36)>0,SUM(C5:C36)/COUNT(C5:C36),"") | D37: =IF(COUNT(D5:D36)>0,SUM(D5:D36)/COUNT(D5:D36),"") | E37: =IF(COUNT(E5:E36)>0,SUM(E5:E36)/COUNT(E5:E36),"") | F37: =IF(COUNT(F5:F36)>0,SUM(F5:F36)/COUNT(F5:F36),"") | G37: =IF(COUNT(G5:G36)>0,SUM(G5:G36)/COUNT(G5:G36),"") | H37: =IF(COUNT(H5:H36)>0,SUM(H5:H36)/COUNT(H5:H36),"") | I37: =IF(COUNT(I5:I36)>0,SUM(I5:I36)/COUNT(I5:I36),"") | J37: =IF(COUNT(J5:J36)>0,SUM(J5:J36)/COUNT(J5:J36),"") | ... S37: =IF(COUNT(S5:S36)>0,SUM(S5:S36)/COUNT(S5:S36),"")

Sheet 3_Mathematik
A2: Aufgabe | C2: 1 | D2: 2a | E2: 2b | F2: 3 | G2: 4 | H2: 5 | I2: 6a | J2: 6b | K2: 7 | L2: 8a | M2: 8b | N2: 9a | O2: 9b | P2: 10 | Q2: 11 | R2: 12a | S2: 12b | T2: 13a | U2: 13b | V2: 14a | W2: 14b | X2: 15 | Y2: Gesamtpunktzahl | Z2: Prozentwert | AA2: Niveau
A3: Mathematik | C3: Zahlenstrahl | D3: Stellenwert | E3: Stellenwert | F3: Zahlbeziehung | G3: Operationsverständnis | H3: Fachbegriffe | I3: schriftliche Subtraktion | J3: flexibles Rechnen | K3: Zahlenfolge | L3: arithmetische Muster | M3: arithmetische Muster | N3: Bauplan | O3: Würfelgebäude | P3: Würfelnetz | Q3: Achsensymmetrie | R3: Daten entnehmen | S3: Diagramm | T3: Sachaufgaben lösen | U3: Sachaufgaben lösen | V3: Kombinatorik | W3: Kombinatorik | X3: Zahlenrätsel
A4: max. Punkte | C4: 1 | D4: 1 | E4: 2 | F4: 2 | G4: 2 | H4: 2 | I4: 1 | J4: 2 | K4: 1 | L4: 1 | M4: 2 | N4: 1 | O4: 1 | P4: 1 | Q4: 1 | R4: 1 | S4: 2 | T4: 1 | U4: 2 | V4: 1 | W4: 2 | X4: 1 | Y4: =SUM(C4:X4) -> 31
A5: =IF(COUNTA('1_Daten'!C9)=1, '1_Daten'!C9,"") | Y5: =IF(COUNTA('1_Daten'!C9)=1,SUM(C5:X5),"") | Z5: =IF(COUNTA('1_Daten'!C9)=1,Y5/$Y$4,"") | AA5: =IF(COUNT(Z5)=1,IF(Z5>=0.695,"E",IF(Z5<0.595,"G","M")),"")
A6: =IF(COUNTA('1_Daten'!C10)=1, '1_Daten'!C10,"") | Y6: =IF(COUNTA('1_Daten'!C10)=1,SUM(C6:X6),"") | Z6: =IF(COUNTA('1_Daten'!C10)=1,Y6/$Y$4,"") | AA6: =IF(COUNT(Z6)=1,IF(Z6>=0.695,"E",IF(Z6<0.595,"G","M")),"")
A7: =IF(COUNTA('1_Daten'!C11)=1, '1_Daten'!C11,"") | Y7: =IF(COUNTA('1_Daten'!C11)=1,SUM(C7:X7),"") | Z7: =IF(COUNTA('1_Daten'!C11)=1,Y7/$Y$4,"") | AA7: =IF(COUNT(Z7)=1,IF(Z7>=0.695,"E",IF(Z7<0.595,"G","M")),"")
A8: =IF(COUNTA('1_Daten'!C12)=1, '1_Daten'!C12,"") | Y8: =IF(COUNTA('1_Daten'!C12)=1,SUM(C8:X8),"") | Z8: =IF(COUNTA('1_Daten'!C12)=1,Y8/$Y$4,"") | AA8: =IF(COUNT(Z8)=1,IF(Z8>=0.695,"E",IF(Z8<0.595,"G","M")),"")
A9: =IF(COUNTA('1_Daten'!C13)=1, '1_Daten'!C13,"") | Y9: =IF(COUNTA('1_Daten'!C13)=1,SUM(C9:X9),"") | Z9: =IF(COUNTA('1_Daten'!C13)=1,Y9/$Y$4,"") | AA9: =IF(COUNT(Z9)=1,IF(Z9>=0.695,"E",IF(Z9<0.595,"G","M")),"")
A10: =IF(COUNTA('1_Daten'!C14)=1, '1_Daten'!C14,"") | Y10: =IF(COUNTA('1_Daten'!C14)=1,SUM(C10:X10),"") | Z10: =IF(COUNTA('1_Daten'!C14)=1,Y10/$Y$4,"") | AA10: =IF(COUNT(Z10)=1,IF(Z10>=0.695,"E",IF(Z10<0.595,"G","M")),"")
A11: =IF(COUNTA('1_Daten'!C15)=1, '1_Daten'!C15,"") | Y11: =IF(COUNTA('1_Daten'!C15)=1,SUM(C11:X11),"") | Z11: =IF(COUNTA('1_Daten'!C15)=1,Y11/$Y$4,"") | AA11: =IF(COUNT(Z11)=1,IF(Z11>=0.695,"E",IF(Z11<0.595,"G","M")),"")
A12: =IF(COUNTA('1_Daten'!C16)=1, '1_Daten'!C16,"") | Y12: =IF(COUNTA('1_Daten'!C16)=1,SUM(C12:X12),"") | Z12: =IF(COUNTA('1_Daten'!C16)=1,Y12/$Y$4,"") | AA12: =IF(COUNT(Z12)=1,IF(Z12>=0.695,"E",IF(Z12<0.595,"G","M")),"")
A13: =IF(COUNTA('1_Daten'!C17)=1, '1_Daten'!C17,"") | Y13: =IF(COUNTA('1_Daten'!C17)=1,SUM(C13:X13),"") | Z13: =IF(COUNTA('1_Daten'!C17)=1,Y13/$Y$4,"") | AA13: =IF(COUNT(Z13)=1,IF(Z13>=0.695,"E",IF(Z13<0.595,"G","M")),"")
A14: =IF(COUNTA('1_Daten'!C18)=1, '1_Daten'!C18,"") | Y14: =IF(COUNTA('1_Daten'!C18)=1,SUM(C14:X14),"") | Z14: =IF(COUNTA('1_Daten'!C18)=1,Y14/$Y$4,"") | AA14: =IF(COUNT(Z14)=1,IF(Z14>=0.695,"E",IF(Z14<0.595,"G","M")),"")
A15: =IF(COUNTA('1_Daten'!C19)=1, '1_Daten'!C19,"") | Y15: =IF(COUNTA('1_Daten'!C19)=1,SUM(C15:X15),"") | Z15: =IF(COUNTA('1_Daten'!C19)=1,Y15/$Y$4,"") | AA15: =IF(COUNT(Z15)=1,IF(Z15>=0.695,"E",IF(Z15<0.595,"G","M")),"")
A16: =IF(COUNTA('1_Daten'!C20)=1, '1_Daten'!C20,"") | Y16: =IF(COUNTA('1_Daten'!C20)=1,SUM(C16:X16),"") | Z16: =IF(COUNTA('1_Daten'!C20)=1,Y16/$Y$4,"") | AA16: =IF(COUNT(Z16)=1,IF(Z16>=0.695,"E",IF(Z16<0.595,"G","M")),"")
... A36: =IF(COUNTA('1_Daten'!C40)=1, '1_Daten'!C40,"") | Y36: =IF(COUNTA('1_Daten'!C40)=1,SUM(C36:X36),"") | Z36: =IF(COUNTA('1_Daten'!C40)=1,Y36/$Y$4,"") | AA36: =IF(COUNT(Z36)=1,IF(Z36>=0.695,"E",IF(Z36<0.595,"G","M")),"")
A37: Klasse (ꝋ) | C37: =IF(COUNT(C5:C36)>0,SUM(C5:C36)/COUNT(C5:C36),"") | D37: =IF(COUNT(D5:D36)>0,SUM(D5:D36)/COUNT(D5:D36),"") | E37: =IF(COUNT(E5:E36)>0,SUM(E5:E36)/COUNT(E5:E36),"") | F37: =IF(COUNT(F5:F36)>0,SUM(F5:F36)/COUNT(F5:F36),"") | G37: =IF(COUNT(G5:G36)>0,SUM(G5:G36)/COUNT(G5:G36),"") | H37: =IF(COUNT(H5:H36)>0,SUM(H5:H36)/COUNT(H5:H36),"") | I37: =IF(COUNT(I5:I36)>0,SUM(I5:I36)/COUNT(I5:I36),"") | J37: =IF(COUNT(J5:J36)>0,SUM(J5:J36)/COUNT(J5:J36),"") | ... AA37: =IF(COUNT(AA5:AA36)>0,SUM(AA5:AA36)/COUNT(AA5:AA36),"")

Sheet 4_Gesamtübersicht
A2: Gesamtübersicht | C2: Prozentwert Deutsch | D2: Niveau Deutsch | E2: Prozentwert Mathematik | F2: Niveau Mathemeatik | G2: Gesamtergebnis Kompass 4
A5: =IF(COUNTA('1_Daten'!C9)=1, '1_Daten'!C9,"") | C5: ='2_Deutsch'!S5 | D5: ='2_Deutsch'!T5 | E5: ='3_Mathematik'!Z5 | F5: ='3_Mathematik'!AA5 | G5: =IF(COUNT(I5)=1,IF(AND(I5>0.695,J5=0),"E",IF(I5<0.595,"G","M")),"") | I5: =AVERAGE(C5,E5) -> #DIV/0! | J5: =IF(OR(D5="G",F5="G"),1, 0) -> 0
A6: =IF(COUNTA('1_Daten'!C10)=1, '1_Daten'!C10,"") | C6: ='2_Deutsch'!S6 | D6: ='2_Deutsch'!T6 | E6: ='3_Mathematik'!Z6 | F6: ='3_Mathematik'!AA6 | G6: =IF(COUNT(I6)=1,IF(AND(I6>0.695,J6=0),"E",IF(I6<0.595,"G","M")),"") | I6: =AVERAGE(C6,E6) -> #DIV/0! | J6: =IF(OR(D6="G",F6="G"),1, 0) -> 0
A7: =IF(COUNTA('1_Daten'!C11)=1, '1_Daten'!C11,"") | C7: ='2_Deutsch'!S7 | D7: ='2_Deutsch'!T7 | E7: ='3_Mathematik'!Z7 | F7: ='3_Mathematik'!AA7 | G7: =IF(COUNT(I7)=1,IF(AND(I7>0.695,J7=0),"E",IF(I7<0.595,"G","M")),"") | I7: =AVERAGE(C7,E7) -> #DIV/0! | J7: =IF(OR(D7="G",F7="G"),1, 0) -> 0
A8: =IF(COUNTA('1_Daten'!C12)=1, '1_Daten'!C12,"") | C8: ='2_Deutsch'!S8 | D8: ='2_Deutsch'!T8 | E8: ='3_Mathematik'!Z8 | F8: ='3_Mathematik'!AA8 | G8: =IF(COUNT(I8)=1,IF(AND(I8>0.695,J8=0),"E",IF(I8<0.595,"G","M")),"") | I8: =AVERAGE(C8,E8) -> #DIV/0! | J8: =IF(OR(D8="G",F8="G"),1, 0) -> 0
A9: =IF(COUNTA('1_Daten'!C13)=1, '1_Daten'!C13,"") | C9: ='2_Deutsch'!S9 | D9: ='2_Deutsch'!T9 | E9: ='3_Mathematik'!Z9 | F9: ='3_Mathematik'!AA9 | G9: =IF(COUNT(I9)=1,IF(AND(I9>0.695,J9=0),"E",IF(I9<0.595,"G","M")),"") | I9: =AVERAGE(C9,E9) -> #DIV/0! | J9: =IF(OR(D9="G",F9="G"),1, 0) -> 0
A10: =IF(COUNTA('1_Daten'!C14)=1, '1_Daten'!C14,"") | C10: ='2_Deutsch'!S10 | D10: ='2_Deutsch'!T10 | E10: ='3_Mathematik'!Z10 | F10: ='3_Mathematik'!AA10 | G10: =IF(COUNT(I10)=1,IF(AND(I10>0.695,J10=0),"E",IF(I10<0.595,"G","M")),"") | I10: =AVERAGE(C10,E10) -> #DIV/0! | J10: =IF(OR(D10="G",F10="G"),1, 0) -> 0
A11: =IF(COUNTA('1_Daten'!C15)=1, '1_Daten'!C15,"") | C11: ='2_Deutsch'!S11 | D11: ='2_Deutsch'!T11 | E11: ='3_Mathematik'!Z11 | F11: ='3_Mathematik'!AA11 | G11: =IF(COUNT(I11)=1,IF(AND(I11>0.695,J11=0),"E",IF(I11<0.595,"G","M")),"") | I11: =AVERAGE(C11,E11) -> #DIV/0! | J11: =IF(OR(D11="G",F11="G"),1, 0) -> 0
A12: =IF(COUNTA('1_Daten'!C16)=1, '1_Daten'!C16,"") | C12: ='2_Deutsch'!S12 | D12: ='2_Deutsch'!T12 | E12: ='3_Mathematik'!Z12 | F12: ='3_Mathematik'!AA12 | G12: =IF(COUNT(I12)=1,IF(AND(I12>0.695,J12=0),"E",IF(I12<0.595,"G","M")),"") | I12: =AVERAGE(C12,E12) -> #DIV/0! | J12: =IF(OR(D12="G",F12="G"),1, 0) -> 0
A13: =IF(COUNTA('1_Daten'!C17)=1, '1_Daten'!C17,"") | C13: ='2_Deutsch'!S13 | D13: ='2_Deutsch'!T13 | E13: ='3_Mathematik'!Z13 | F13: ='3_Mathematik'!AA13 | G13: =IF(COUNT(I13)=1,IF(AND(I13>0.695,J13=0),"E",IF(I13<0.595,"G","M")),"") | I13: =AVERAGE(C13,E13) -> #DIV/0! | J13: =IF(OR(D13="G",F13="G"),1, 0) -> 0
A14: =IF(COUNTA('1_Daten'!C18)=1, '1_Daten'!C18,"") | C14: ='2_Deutsch'!S14 | D14: ='2_Deutsch'!T14 | E14: ='3_Mathematik'!Z14 | F14: ='3_Mathematik'!AA14 | G14: =IF(COUNT(I14)=1,IF(AND(I14>0.695,J14=0),"E",IF(I14<0.595,"G","M")),"") | I14: =AVERAGE(C14,E14) -> #DIV/0! | J14: =IF(OR(D14="G",F14="G"),1, 0) -> 0
A15: =IF(COUNTA('1_Daten'!C19)=1, '1_Daten'!C19,"") | C15: ='2_Deutsch'!S15 | D15: ='2_Deutsch'!T15 | E15: ='3_Mathematik'!Z15 | F15: ='3_Mathematik'!AA15 | G15: =IF(COUNT(I15)=1,IF(AND(I15>0.695,J15=0),"E",IF(I15<0.595,"G","M")),"") | I15: =AVERAGE(C15,E15) -> #DIV/0! | J15: =IF(OR(D15="G",F15="G"),1, 0) -> 0
A16: =IF(COUNTA('1_Daten'!C20)=1, '1_Daten'!C20,"") | C16: ='2_Deutsch'!S16 | D16: ='2_Deutsch'!T16 | E16: ='3_Mathematik'!Z16 | F16: ='3_Mathematik'!AA16 | G16: =IF(COUNT(I16)=1,IF(AND(I16>0.695,J16=0),"E",IF(I16<0.595,"G","M")),"") | I16: =AVERAGE(C16,E16) -> #DIV/0! | J16: =IF(OR(D16="G",F16="G"),1, 0) -> 0
... A36: =IF(COUNTA('1_Daten'!C40)=1, '1_Daten'!C40,"") | C36: ='2_Deutsch'!S36 | D36: ='2_Deutsch'!T36 | E36: ='3_Mathematik'!Z36 | F36: ='3_Mathematik'!AA36 | G36: =IF(COUNT(I36)=1,IF(AND(I36>0.695,J36=0),"E",IF(I36<0.595,"G","M")),"") | I36: =AVERAGE(C36,E36) -> #DIV/0! | J36: =IF(OR(D36="G",F36="G"),1, 0) -> 0
A37: Klasse (⌀) | C37: =IF(COUNT(C5:C36)>0,SUM(C5:C36)/COUNT(C5:C36),"") | E37: =IF(COUNT(E5:E36)>0,SUM(E5:E36)/COUNT(E5:E36),"")

Sheet 5_Statistik
B2: Schuljahr | C2: ='1_Daten'!C2 -> 2024/2025
B3: Name der Schule | C3: =IF(COUNTA('1_Daten'!C3)=1,'1_Daten'!C3,"")
B4: Dienststellen-Nr. | C4: =IF(COUNTA('1_Daten'!C4)=1,'1_Daten'!C4,"")
B5: Klasse | C5: =IF(COUNTA('1_Daten'!C5)=1,'1_Daten'!C5,"")
B6: Anzahl der teilnehmenden SuS | C6: =COUNTA('1_Daten'!C9:C40) -> 0
B9: Ergebnis in Deutsch:
B11: Klassendurchschnitt (Prozentwert): | C11: ='4_Gesamtübersicht'!C37
B12: Anzahl der SuS auf Niveau G: | C12: =COUNTIF('2_Deutsch'!T5:T36,"G") -> 0 | D12: =IF($C$6>0,C12/$C$6,"")
B13: Anzahl der SuS auf Niveau M: | C13: =COUNTIF('2_Deutsch'!T5:T36,"M") -> 0 | D13: =IF($C$6>0,C13/$C$6,"")
B14: Anzahl der SuS auf Niveau E: | C14: =COUNTIF('2_Deutsch'!T5:T36,"E") -> 0 | D14: =IF($C$6>0,C14/$C$6,"")
B17: Ergebnis in Mathematik:
B19: Klassendurchschnitt (Prozentwert): | C19: ='4_Gesamtübersicht'!E37
B20: Anzahl der SuS auf Niveau G: | C20: =COUNTIF('3_Mathematik'!AA5:AA36,"G") -> 0 | D20: =IF($C$6>0,C20/$C$6,"")
B21: Anzahl der SuS auf Niveau M: | C21: =COUNTIF('3_Mathematik'!AA5:AA36,"M") -> 0 | D21: =IF($C$6>0,C21/$C$6,"")
B22: Anzahl der SuS auf Niveau E: | C22: =COUNTIF('3_Mathematik'!AA5:AA36,"E") -> 0 | D22: =IF($C$6>0,C22/$C$6,"")
B25: Gesamtergebnisse Kompass 4:
B27: Klassendurchschnitt (Prozentwert): | C27: =IF(COUNT(C11,C19)=2,AVERAGE(C11,C19),"")
B28: Anzahl der SuS auf Niveau G: | C28: =COUNTIF('4_Gesamtübersicht'!G5:G36,"G") -> 0 | D28: =IF($C$6>0,C28/$C$6,"")
B29: Anzahl der SuS auf Niveau M: | C29: =COUNTIF('4_Gesamtübersicht'!G5:G36,"M") -> 0 | D29: =IF($C$6>0,C29/$C$6,"")
B30: Anzahl der SuS auf Niveau E: | C30: =COUNTIF('4_Gesamtübersicht'!G5:G36,"E") -> 0 | D30: =IF($C$6>0,C30/$C$6,"")

Sheet S01
B1: Kompass 4 - Ergebnisblatt
B2: Schuljahr: | C2: =IF(COUNTA('1_Daten'!C2)=1,'1_Daten'!C2,"") -> 2024/2025
B3: =IF(COUNTA('1_Daten'!C3)=1,'1_Daten'!C3,"")
B4: Lehrkraft: | C4: =IF(COUNTA('1_Daten'!C6)=1,'1_Daten'!C6,"")
B7: Name des Kindes
B8: =IF(COUNTA('1_Daten'!C9)=1, '1_Daten'!C9,"")
B11: Ergebnis in Deutsch:
B13: Mögliche Gesamtpunktzahl | D13: ='2_Deutsch'!R4 -> 33.5
B14: Erreichte Punktzahl | D14: =IF(COUNTA('1_Daten'!C9),'2_Deutsch'!R5,"")
B15: Prozentwert | D15: =IF(COUNTA('1_Daten'!C9)=1,D14/D13,"")
B17: =IF(COUNT(D15)=1,IF(D15>=0.695,"Niveau E",IF(D15<0.595,"Niveau G","Niveau M")),"")
B20: Ergebnis in Mathematik:
B22: Mögliche Gesamtpunktzahl | D22: ='3_Mathematik'!Y4 -> 31
B23: Erreichte Punktzahl | D23: =IF(COUNTA('1_Daten'!C9),'3_Mathematik'!Y5,"")
B24: Prozentwert | D24: =IF(COUNTA('1_Daten'!C9)=1,D23/D22,"")
B26: =IF(COUNT(D24)=1,IF(D24>=0.695,"Niveau E",IF(D24<0.595,"Niveau G","Niveau M")),"")
B29: Gesamtergebnis Kompass 4:
B31: =IF(COUNT(H33)=1,IF(AND(H33>0.695,H35=0),Wording!A3,IF(H33<0.595,Wording!A1,Wording!A2)),"")
H33: =AVERAGE(D15,D24) -> #DIV/0!
H35: =IF(OR(B17="Niveau G",B26="Niveau G"),1, 0) -> 0

Sheet S02
B1: Kompass 4 - Ergebnisblatt
B2: Schuljahr: | C2: =IF(COUNTA('1_Daten'!C2)=1,'1_Daten'!C2,"") -> 2024/2025
B3: =IF(COUNTA('1_Daten'!C3)=1,'1_Daten'!C3,"")
B4: Lehrkraft: | C4: =IF(COUNTA('1_Daten'!C6)=1,'1_Daten'!C6,"")
B7: Name des Kindes
B8: =IF(COUNTA('1_Daten'!C10)=1, '1_Daten'!C10,"")
B11: Ergebnis in Deutsch:
B13: Mögliche Gesamtpunktzahl | D13: ='2_Deutsch'!R4 -> 33.5
B14: Erreichte Punktzahl | D14: =IF(COUNTA('1_Daten'!C10),'2_Deutsch'!R6,"")
B15: Prozentwert | D15: =IF(COUNTA('1_Daten'!C10)=1,D14/D13,"")
B17: =IF(COUNT(D15)=1,IF(D15>=0.695,"Niveau E",IF(D15<0.595,"Niveau G","Niveau M")),"")
B20: Ergebnis in Mathematik:
B22: Mögliche Gesamtpunktzahl | D22: ='3_Mathematik'!Y4 -> 31
B23: Erreichte Punktzahl | D23: =IF(COUNTA('1_Daten'!C10),'3_Mathematik'!Y6,"")
B24: Prozentwert | D24: =IF(COUNTA('1_Daten'!C10)=1,D23/D22,"")
B26: =IF(COUNT(D24)=1,IF(D24>=0.695,"Niveau E",IF(D24<0.595,"Niveau G","Niveau M")),"")
B29: Gesamtergebnis Kompass 4:
B31: =IF(COUNT(H33)=1,IF(AND(H33>0.695,H35=0),Wording!A3,IF(H33<0.595,Wording!A1,Wording!A2)),"")
H33: =AVERAGE(D15,D24) -> #DIV/0!
H35: =IF(OR(B17="Niveau G",B26="Niveau G"),1, 0) -> 0

Sheet S03
B1: Kompass 4 - Ergebnisblatt
B2: Schuljahr: | C2: =IF(COUNTA('1_Daten'!C2)=1,'1_Daten'!C2,"") -> 2024/2025
B3: =IF(COUNTA('1_Daten'!C3)=1,'1_Daten'!C3,"")
B4: Lehrkraft: | C4: =IF(COUNTA('1_Daten'!C6)=1,'1_Daten'!C6,"")
B7: Name des Kindes
B8: =IF(COUNTA('1_Daten'!C11)=1, '1_Daten'!C11,"")
B11: Ergebnis in Deutsch:
B13: Mögliche Gesamtpunktzahl | D13: ='2_Deutsch'!R4 -> 33.5
B14: Erreichte Punktzahl | D14: =IF(COUNTA('1_Daten'!C11),'2_Deutsch'!R7,"")
B15: Prozentwert | D15: =IF(COUNTA('1_Daten'!C11)=1,D14/D13,"")
B17: =IF(COUNT(D15)=1,IF(D15>=0.695,"Niveau E",IF(D15<0.595,"Niveau G","Niveau M")),"")
B20: Ergebnis in Mathematik:
B22: Mögliche Gesamtpunktzahl | D22: ='3_Mathematik'!Y4 -> 31
B23: Erreichte Punktzahl | D23: =IF(COUNTA('1_Daten'!C11),'3_Mathematik'!Y7,"")
B24: Prozentwert | D24: =IF(COUNTA('1_Daten'!C11)=1,D23/D22,"")
B26: =IF(COUNT(D24)=1,IF(D24>=0.695,"Niveau E",IF(D24<0.595,"Niveau G","Niveau M")),"")
B29: Gesamtergebnis Kompass 4:
B31: =IF(COUNT(H33)=1,IF(AND(H33>0.695,H35=0),Wording!A3,IF(H33<0.595,Wording!A1,Wording!A2)),"")
H33: =AVERAGE(D15,D24) -> #DIV/0!
H35: =IF(OR(B17="Niveau G",B26="Niveau G"),1, 0) -> 0

Sheet S04
B1: Kompass 4 - Ergebnisblatt
B2: Schuljahr: | C2: =IF(COUNTA('1_Daten'!C2)=1,'1_Daten'!C2,"") -> 2024/2025
B3: =IF(COUNTA('1_Daten'!C3)=1,'1_Daten'!C3,"")
B4: Lehrkraft: | C4: =IF(COUNTA('1_Daten'!C6)=1,'1_Daten'!C6,"")
B7: Name des Kindes
B8: =IF(COUNTA('1_Daten'!C12)=1, '1_Daten'!C12,"")
B11: Ergebnis in Deutsch:
B13: Mögliche Gesamtpunktzahl | D13: ='2_Deutsch'!R4 -> 33.5
B14: Erreichte Punktzahl | D14: =IF(COUNTA('1_Daten'!C12),'2_Deutsch'!R8,"")
B15: Prozentwert | D15: =IF(COUNTA('1_Daten'!C12)=1,D14/D13,"")
B17: =IF(COUNT(D15)=1,IF(D15>=0.695,"Niveau E",IF(D15<0.595,"Niveau G","Niveau M")),"")
B20: Ergebnis in Mathematik:
B22: Mögliche Gesamtpunktzahl | D22: ='3_Mathematik'!Y4 -> 31
B23: Erreichte Punktzahl | D23: =IF(COUNTA('1_Daten'!C12),'3_Mathematik'!Y8,"")
B24: Prozentwert | D24: =IF(COUNTA('1_Daten'!C12)=1,D23/D22,"")
B26: =IF(COUNT(D24)=1,IF(D24>=0.695,"Niveau E",IF(D24<0.595,"Niveau G","Niveau M")),"")
B29: Gesamtergebnis Kompass 4:
B31: =IF(COUNT(H33)=1,IF(AND(H33>0.695,H35=0),Wording!A3,IF(H33<0.595,Wording!A1,Wording!A2)),"")
H33: =AVERAGE(D15,D24) -> #DIV/0!
H35: =IF(OR(B17="Niveau G",B26="Niveau G"),1, 0) -> 0

Sheet S05
B1: Kompass 4 - Ergebnisblatt
B2: Schuljahr: | C2: =IF(COUNTA('1_Daten'!C2)=1,'1_Daten'!C2,"") -> 2024/2025
B3: =IF(COUNTA('1_Daten'!C3)=1,'1_Daten'!C3,"")
B4: Lehrkraft: | C4: =IF(COUNTA('1_Daten'!C6)=1,'1_Daten'!C6,"")
B7: Name des Kindes
B8: =IF(COUNTA('1_Daten'!C13)=1, '1_Daten'!C13,"")
B11: Ergebnis in Deutsch:
B13: Mögliche Gesamtpunktzahl | D13: ='2_Deutsch'!R4 -> 33.5
B14: Erreichte Punktzahl | D14: =IF(COUNTA('1_Daten'!C13),'2_Deutsch'!R9,"")
B15: Prozentwert | D15: =IF(COUNTA('1_Daten'!C13)=1,D14/D13,"")
B17: =IF(COUNT(D15)=1,IF(D15>=0.695,"Niveau E",IF(D15<0.595,"Niveau G","Niveau M")),"")
B20: Ergebnis in Mathematik:
B22: Mögliche Gesamtpunktzahl | D22: ='3_Mathematik'!Y4 -> 31
B23: Erreichte Punktzahl | D23: =IF(COUNTA('1_Daten'!C13),'3_Mathematik'!Y9,"")
B24: Prozentwert | D24: =IF(COUNTA('1_Daten'!C13)=1,D23/D22,"")
B26: =IF(COUNT(D24)=1,IF(D24>=0.695,"Niveau E",IF(D24<0.595,"Niveau G","Niveau M")),"")
B29: Gesamtergebnis Kompass 4:
B31: =IF(COUNT(H33)=1,IF(AND(H33>0.695,H35=0),Wording!A3,IF(H33<0.595,Wording!A1,Wording!A2)),"")
H33: =AVERAGE(D15,D24) -> #DIV/0!
H35: =IF(OR(B17="Niveau G",B26="Niveau G"),1, 0) -> 0

Sheet S06
B1: Kompass 4 - Ergebnisblatt
B2: Schuljahr: | C2: =IF(COUNTA('1_Daten'!C2)=1,'1_Daten'!C2,"") -> 2024/2025
B3: =IF(COUNTA('1_Daten'!C3)=1,'1_Daten'!C3,"")
B4: Lehrkraft: | C4: =IF(COUNTA('1_Daten'!C6)=1,'1_Daten'!C6,"")
B7: Name des Kindes
B8: =IF(COUNTA('1_Daten'!C14)=1, '1_Daten'!C14,"")
B11: Ergebnis in Deutsch:
B13: Mögliche Gesamtpunktzahl | D13: ='2_Deutsch'!R4 -> 33.5
B14: Erreichte Punktzahl | D14: =IF(COUNTA('1_Daten'!C14),'2_Deutsch'!R10,"")
B15: Prozentwert | D15: =IF(COUNTA('1_Daten'!C14)=1,D14/D13,"")
B17: =IF(COUNT(D15)=1,IF(D15>=0.695,"Niveau E",IF(D15<0.595,"Niveau G","Niveau M")),"")
B20: Ergebnis in Mathematik:
B22: Mögliche Gesamtpunktzahl | D22: ='3_Mathematik'!Y4 -> 31
B23: Erreichte Punktzahl | D23: =IF(COUNTA('1_Daten'!C14),'3_Mathematik'!Y10,"")
B24: Prozentwert | D24: =IF(COUNTA('1_Daten'!C14)=1,D23/D22,"")
B26: =IF(COUNT(D24)=1,IF(D24>=0.695,"Niveau E",IF(D24<0.595,"Niveau G","Niveau M")),"")
B29: Gesamtergebnis Kompass 4:
B31: =IF(COUNT(H33)=1,IF(AND(H33>0.695,H35=0),Wording!A3,IF(H33<0.595,Wording!A1,Wording!A2)),"")
H33: =AVERAGE(D15,D24) -> #DIV/0!
H35: =IF(OR(B17="Niveau G",B26="Niveau G"),1, 0) -> 0

Sheet S07
B1: Kompass 4 - Ergebnisblatt
B2: Schuljahr: | C2: =IF(COUNTA('1_Daten'!C2)=1,'1_Daten'!C2,"") -> 2024/2025
B3: =IF(COUNTA('1_Daten'!C3)=1,'1_Daten'!C3,"")
B4: Lehrkraft: | C4: =IF(COUNTA('1_Daten'!C6)=1,'1_Daten'!C6,"")
B7: Name des Kindes
B8: =IF(COUNTA('1_Daten'!C15)=1, '1_Daten'!C15,"")
B11: Ergebnis in Deutsch:
B13: Mögliche Gesamtpunktzahl | D13: ='2_Deutsch'!R4 -> 33.5
B14: Erreichte Punktzahl | D14: =IF(COUNTA('1_Daten'!C15),'2_Deutsch'!R11,"")
B15: Prozentwert | D15: =IF(COUNTA('1_Daten'!C15)=1,D14/D13,"")
B17: =IF(COUNT(D15)=1,IF(D15>=0.695,"Niveau E",IF(D15<0.595,"Niveau G","Niveau M")),"")
B20: Ergebnis in Mathematik:
B22: Mögliche Gesamtpunktzahl | D22: ='3_Mathematik'!Y4 -> 31
B23: Erreichte Punktzahl | D23: =IF(COUNTA('1_Daten'!C15),'3_Mathematik'!Y11,"")
B24: Prozentwert | D24: =IF(COUNTA('1_Daten'!C15)=1,D23/D22,"")
B26: =IF(COUNT(D24)=1,IF(D24>=0.695,"Niveau E",IF(D24<0.595,"Niveau G","Niveau M")),"")
B29: Gesamtergebnis Kompass 4:
B31: =IF(COUNT(H33)=1,IF(AND(H33>0.695,H35=0),Wording!A3,IF(H33<0.595,Wording!A1,Wording!A2)),"")
H33: =AVERAGE(D15,D24) -> #DIV/0!
H35: =IF(OR(B17="Niveau G",B26="Niveau G"),1, 0) -> 0

Sheet S08
B1: Kompass 4 - Ergebnisblatt
B2: Schuljahr: | C2: =IF(COUNTA('1_Daten'!C2)=1,'1_Daten'!C2,"") -> 2024/2025
B3: =IF(COUNTA('1_Daten'!C3)=1,'1_Daten'!C3,"")
B4: Lehrkraft: | C4: =IF(COUNTA('1_Daten'!C6)=1,'1_Daten'!C6,"")
B7: Name des Kindes
B8: =IF(COUNTA('1_Daten'!C16)=1, '1_Daten'!C16,"")
B11: Ergebnis in Deutsch:
B13: Mögliche Gesamtpunktzahl | D13: ='2_Deutsch'!R4 -> 33.5
B14: Erreichte Punktzahl | D14: =IF(COUNTA('1_Daten'!C16),'2_Deutsch'!R12,"")
B15: Prozentwert | D15: =IF(COUNTA('1_Daten'!C16)=1,D14/D13,"")
B17: =IF(COUNT(D15)=1,IF(D15>=0.695,"Niveau E",IF(D15<0.595,"Niveau G","Niveau M")),"")
B20: Ergebnis in Mathematik:
B22: Mögliche Gesamtpunktzahl | D22: ='3_Mathematik'!Y4 -> 31
B23: Erreichte Punktzahl | D23: =IF(COUNTA('1_Daten'!C16),'3_Mathematik'!Y12,"")
B24: Prozentwert | D24: =IF(COUNTA('1_Daten'!C16)=1,D23/D22,"")
B26: =IF(COUNT(D24)=1,IF(D24>=0.695,"Niveau E",IF(D24<0.595,"Niveau G","Niveau M")),"")
B29: Gesamtergebnis Kompass 4:
B31: =IF(COUNT(H33)=1,IF(AND(H33>0.695,H35=0),Wording!A3,IF(H33<0.595,Wording!A1,Wording!A2)),"")
H33: =AVERAGE(D15,D24) -> #DIV/0!
H35: =IF(OR(B17="Niveau G",B26="Niveau G"),1, 0) -> 0

Sheet S09
B1: Kompass 4 - Ergebnisblatt
B2: Schuljahr: | C2: =IF(COUNTA('1_Daten'!C2)=1,'1_Daten'!C2,"") -> 2024/2025
B3: =IF(COUNTA('1_Daten'!C3)=1,'1_Daten'!C3,"")
B4: Lehrkraft: | C4: =IF(COUNTA('1_Daten'!C6)=1,'1_Daten'!C6,"")
B7: Name des Kindes
B8: =IF(COUNTA('1_Daten'!C17)=1, '1_Daten'!C17,"")
B11: Ergebnis in Deutsch:
B13: Mögliche Gesamtpunktzahl | D13: ='2_Deutsch'!R4 -> 33.5
B14: Erreichte Punktzahl | D14: =IF(COUNTA('1_Daten'!C17),'2_Deutsch'!R13,"")
B15: Prozentwert | D15: =IF(COUNTA('1_Daten'!C17)=1,D14/D13,"")
B17: =IF(COUNT(D15)=1,IF(D15>=0.695,"Niveau E",IF(D15<0.595,"Niveau G","Niveau M")),"")
B20: Ergebnis in Mathematik:
B22: Mögliche Gesamtpunktzahl | D22: ='3_Mathematik'!Y4 -> 31
B23: Erreichte Punktzahl | D23: =IF(COUNTA('1_Daten'!C17),'3_Mathematik'!Y13,"")
B24: Prozentwert | D24: =IF(COUNTA('1_Daten'!C17)=1,D23/D22,"")
B26: =IF(COUNT(D24)=1,IF(D24>=0.695,"Niveau E",IF(D24<0.595,"Niveau G","Niveau M")),"")
B29: Gesamtergebnis Kompass 4:
B31: =IF(COUNT(H33)=1,IF(AND(H33>0.695,H35=0),Wording!A3,IF(H33<0.595,Wording!A1,Wording!A2)),"")
H33: =AVERAGE(D15,D24) -> #DIV/0!
H35: =IF(OR(B17="Niveau G",B26="Niveau G"),1, 0) -> 0

Sheet S10
B1: Kompass 4 - Ergebnisblatt
B2: Schuljahr: | C2: =IF(COUNTA('1_Daten'!C2)=1,'1_Daten'!C2,"") -> 2024/2025
B3: =IF(COUNTA('1_Daten'!C3)=1,'1_Daten'!C3,"")
B4: Lehrkraft: | C4: =IF(COUNTA('1_Daten'!C6)=1,'1_Daten'!C6,"")
B7: Name des Kindes
B8: =IF(COUNTA('1_Daten'!C18)=1, '1_Daten'!C18,"")
B11: Ergebnis in Deutsch:
B13: Mögliche Gesamtpunktzahl | D13: ='2_Deutsch'!R4 -> 33.5
B14: Erreichte Punktzahl | D14: =IF(COUNTA('1_Daten'!C18),'2_Deutsch'!R14,"")
B15: Prozentwert | D15: =IF(COUNTA('1_Daten'!C18)=1,D14/D13,"")
B17: =IF(COUNT(D15)=1,IF(D15>=0.695,"Niveau E",IF(D15<0.595,"Niveau G","Niveau M")),"")
B20: Ergebnis in Mathematik:
B22: Mögliche Gesamtpunktzahl | D22: ='3_Mathematik'!Y4 -> 31
B23: Erreichte Punktzahl | D23: =IF(COUNTA('1_Daten'!C18),'3_Mathematik'!Y14,"")
B24: Prozentwert | D24: =IF(COUNTA('1_Daten'!C18)=1,D23/D22,"")
B26: =IF(COUNT(D24)=1,IF(D24>=0.695,"Niveau E",IF(D24<0.595,"Niveau G","Niveau M")),"")
B29: Gesamtergebnis Kompass 4:
B31: =IF(COUNT(H33)=1,IF(AND(H33>0.695,H35=0),Wording!A3,IF(H33<0.595,Wording!A1,Wording!A2)),"")
H33: =AVERAGE(D15,D24) -> #DIV/0!
H35: =IF(OR(B17="Niveau G",B26="Niveau G"),1, 0) -> 0

Sheet S11
B1: Kompass 4 - Ergebnisblatt
B2: Schuljahr: | C2: =IF(COUNTA('1_Daten'!C2)=1,'1_Daten'!C2,"") -> 2024/2025
B3: =IF(COUNTA('1_Daten'!C3)=1,'1_Daten'!C3,"")
B4: Lehrkraft: | C4: =IF(COUNTA('1_Daten'!C6)=1,'1_Daten'!C6,"")
B7: Name des Kindes
B8: =IF(COUNTA('1_Daten'!C19)=1, '1_Daten'!C19,"")
B11: Ergebnis in Deutsch:
B13: Mögliche Gesamtpunktzahl | D13: ='2_Deutsch'!R4 -> 33.5
B14: Erreichte Punktzahl | D14: =IF(COUNTA('1_Daten'!C19),'2_Deutsch'!R15,"")
B15: Prozentwert | D15: =IF(COUNTA('1_Daten'!C19)=1,D14/D13,"")
B17: =IF(COUNT(D15)=1,IF(D15>=0.695,"Niveau E",IF(D15<0.595,"Niveau G","Niveau M")),"")
B20: Ergebnis in Mathematik:
B22: Mögliche Gesamtpunktzahl | D22: ='3_Mathematik'!Y4 -> 31
B23: Erreichte Punktzahl | D23: =IF(COUNTA('1_Daten'!C19),'3_Mathematik'!Y15,"")
B24: Prozentwert | D24: =IF(COUNTA('1_Daten'!C19)=1,D23/D22,"")
B26: =IF(COUNT(D24)=1,IF(D24>=0.695,"Niveau E",IF(D24<0.595,"Niveau G","Niveau M")),"")
B29: Gesamtergebnis Kompass 4:
B31: =IF(COUNT(H33)=1,IF(AND(H33>0.695,H35=0),Wording!A3,IF(H33<0.595,Wording!A1,Wording!A2)),"")
H33: =AVERAGE(D15,D24) -> #DIV/0!
H35: =IF(OR(B17="Niveau G",B26="Niveau G"),1, 0) -> 0

Sheet S12
B1: Kompass 4 - Ergebnisblatt
B2: Schuljahr: | C2: =IF(COUNTA('1_Daten'!C2)=1,'1_Daten'!C2,"") -> 2024/2025
B3: =IF(COUNTA('1_Daten'!C3)=1,'1_Daten'!C3,"")
B4: Lehrkraft: | C4: =IF(COUNTA('1_Daten'!C6)=1,'1_Daten'!C6,"")
B7: Name des Kindes
B8: =IF(COUNTA('1_Daten'!C20)=1, '1_Daten'!C20,"")
B11: Ergebnis in Deutsch:
B13: Mögliche Gesamtpunktzahl | D13: ='2_Deutsch'!R4 -> 33.5
B14: Erreichte Punktzahl | D14: =IF(COUNTA('1_Daten'!C20),'2_Deutsch'!R16,"")
B15: Prozentwert | D15: =IF(COUNTA('1_Daten'!C20)=1,D14/D13,"")
B17: =IF(COUNT(D15)=1,IF(D15>=0.695,"Niveau E",IF(D15<0.595,"Niveau G","Niveau M")),"")
B20: Ergebnis in Mathematik:
B22: Mögliche Gesamtpunktzahl | D22: ='3_Mathematik'!Y4 -> 31
B23: Erreichte Punktzahl | D23: =IF(COUNTA('1_Daten'!C20),'3_Mathematik'!Y16,"")
B24: Prozentwert | D24: =IF(COUNTA('1_Daten'!C20)=1,D23/D22,"")
B26: =IF(COUNT(D24)=1,IF(D24>=0.695,"Niveau E",IF(D24<0.595,"Niveau G","Niveau M")),"")
B29: Gesamtergebnis Kompass 4:
B31: =IF(COUNT(H33)=1,IF(AND(H33>0.695,H35=0),Wording!A3,IF(H33<0.595,Wording!A1,Wording!A2)),"")
H33: =AVERAGE(D15,D24) -> #DIV/0!
H35: =IF(OR(B17="Niveau G",B26="Niveau G"),1, 0) -> 0

Sheet S13
B1: Kompass 4 - Ergebnisblatt
B2: Schuljahr: | C2: =IF(COUNTA('1_Daten'!C2)=1,'1_Daten'!C2,"") -> 2024/2025
B3: =IF(COUNTA('1_Daten'!C3)=1,'1_Daten'!C3,"")
B4: Lehrkraft: | C4: =IF(COUNTA('1_Daten'!C6)=1,'1_Daten'!C6,"")
B7: Name des Kindes
B8: =IF(COUNTA('1_Daten'!C21)=1, '1_Daten'!C21,"")
B11: Ergebnis in Deutsch:
B13: Mögliche Gesamtpunktzahl | D13: ='2_Deutsch'!R4 -> 33.5
B14: Erreichte Punktzahl | D14: =IF(COUNTA('1_Daten'!C21),'2_Deutsch'!R17,"")
B15: Prozentwert | D15: =IF(COUNTA('1_Daten'!C21)=1,D14/D13,"")
B17: =IF(COUNT(D15)=1,IF(D15>=0.695,"Niveau E",IF(D15<0.595,"Niveau G","Niveau M")),"")
B20: Ergebnis in Mathematik:
B22: Mögliche Gesamtpunktzahl | D22: ='3_Mathematik'!Y4 -> 31
B23: Erreichte Punktzahl | D23: =IF(COUNTA('1_Daten'!C21),'3_Mathematik'!Y17,"")
B24: Prozentwert | D24: =IF(COUNTA('1_Daten'!C21)=1,D23/D22,"")
B26: =IF(COUNT(D24)=1,IF(D24>=0.695,"Niveau E",IF(D24<0.595,"Niveau G","Niveau M")),"")
B29: Gesamtergebnis Kompass 4:
B31: =IF(COUNT(H33)=1,IF(AND(H33>0.695,H35=0),Wording!A3,IF(H33<0.595,Wording!A1,Wording!A2)),"")
H33: =AVERAGE(D15,D24) -> #DIV/0!
H35: =IF(OR(B17="Niveau G",B26="Niveau G"),1, 0) -> 0

Sheet S14
B1: Kompass 4 - Ergebnisblatt
B2: Schuljahr: | C2: =IF(COUNTA('1_Daten'!C2)=1,'1_Daten'!C2,"") -> 2024/2025
B3: =IF(COUNTA('1_Daten'!C3)=1,'1_Daten'!C3,"")
B4: Lehrkraft: | C4: =IF(COUNTA('1_Daten'!C6)=1,'1_Daten'!C6,"")
B7: Name des Kindes
B8: =IF(COUNTA('1_Daten'!C22)=1, '1_Daten'!C22,"")
B11: Ergebnis in Deutsch:
B13: Mögliche Gesamtpunktzahl | D13: ='2_Deutsch'!R4 -> 33.5
B14: Erreichte Punktzahl | D14: =IF(COUNTA('1_Daten'!C22),'2_Deutsch'!R18,"")
B15: Prozentwert | D15: =IF(COUNTA('1_Daten'!C22)=1,D14/D13,"")
B17: =IF(COUNT(D15)=1,IF(D15>=0.695,"Niveau E",IF(D15<0.595,"Niveau G","Niveau M")),"")
B20: Ergebnis in Mathematik:
B22: Mögliche Gesamtpunktzahl | D22: ='3_Mathematik'!Y4 -> 31
B23: Erreichte Punktzahl | D23: =IF(COUNTA('1_Daten'!C22),'3_Mathematik'!Y18,"")
B24: Prozentwert | D24: =IF(COUNTA('1_Daten'!C22)=1,D23/D22,"")
B26: =IF(COUNT(D24)=1,IF(D24>=0.695,"Niveau E",IF(D24<0.595,"Niveau G","Niveau M")),"")
B29: Gesamtergebnis Kompass 4:
B31: =IF(COUNT(H33)=1,IF(AND(H33>0.695,H35=0),Wording!A3,IF(H33<0.595,Wording!A1,Wording!A2)),"")
H33: =AVERAGE(D15,D24) -> #DIV/0!
H35: =IF(OR(B17="Niveau G",B26="Niveau G"),1, 0) -> 0

Sheet S15
B1: Kompass 4 - Ergebnisblatt
B2: Schuljahr: | C2: =IF(COUNTA('1_Daten'!C2)=1,'1_Daten'!C2,"") -> 2024/2025
B3: =IF(COUNTA('1_Daten'!C3)=1,'1_Daten'!C3,"")
B4: Lehrkraft: | C4: =IF(COUNTA('1_Daten'!C6)=1,'1_Daten'!C6,"")
B7: Name des Kindes
B8: =IF(COUNTA('1_Daten'!C23)=1, '1_Daten'!C23,"")
B11: Ergebnis in Deutsch:
B13: Mögliche Gesamtpunktzahl | D13: ='2_Deutsch'!R4 -> 33.5
B14: Erreichte Punktzahl | D14: =IF(COUNTA('1_Daten'!C23),'2_Deutsch'!R19,"")
B15: Prozentwert | D15: =IF(COUNTA('1_Daten'!C23)=1,D14/D13,"")
B17: =IF(COUNT(D15)=1,IF(D15>=0.695,"Niveau E",IF(D15<0.595,"Niveau G","Niveau M")),"")
B20: Ergebnis in Mathematik:
B22: Mögliche Gesamtpunktzahl | D22: ='3_Mathematik'!Y4 -> 31
B23: Erreichte Punktzahl | D23: =IF(COUNTA('1_Daten'!C23),'3_Mathematik'!Y19,"")
B24: Prozentwert | D24: =IF(COUNTA('1_Daten'!C23)=1,D23/D22,"")
B26: =IF(COUNT(D24)=1,IF(D24>=0.695,"Niveau E",IF(D24<0.595,"Niveau G","Niveau M")),"")
B29: Gesamtergebnis Kompass 4:
B31: =IF(COUNT(H33)=1,IF(AND(H33>0.695,H35=0),Wording!A3,IF(H33<0.595,Wording!A1,Wording!A2)),"")
H33: =AVERAGE(D15,D24) -> #DIV/0!
H35: =IF(OR(B17="Niveau G",B26="Niveau G"),1, 0) -> 0

Sheet S16
B1: Kompass 4 - Ergebnisblatt
B2: Schuljahr: | C2: =IF(COUNTA('1_Daten'!C2)=1,'1_Daten'!C2,"") -> 2024/2025
B3: =IF(COUNTA('1_Daten'!C3)=1,'1_Daten'!C3,"")
B4: Lehrkraft: | C4: =IF(COUNTA('1_Daten'!C6)=1,'1_Daten'!C6,"")
B7: Name des Kindes
B8: =IF(COUNTA('1_Daten'!C24)=1, '1_Daten'!C24,"")
B11: Ergebnis in Deutsch:
B13: Mögliche Gesamtpunktzahl | D13: ='2_Deutsch'!R4 -> 33.5
B14: Erreichte Punktzahl | D14: =IF(COUNTA('1_Daten'!C24),'2_Deutsch'!R20,"")
B15: Prozentwert | D15: =IF(COUNTA('1_Daten'!C24)=1,D14/D13,"")
B17: =IF(COUNT(D15)=1,IF(D15>=0.695,"Niveau E",IF(D15<0.595,"Niveau G","Niveau M")),"")
B20: Ergebnis in Mathematik:
B22: Mögliche Gesamtpunktzahl | D22: ='3_Mathematik'!Y4 -> 31
B23: Erreichte Punktzahl | D23: =IF(COUNTA('1_Daten'!C24),'3_Mathematik'!Y20,"")
B24: Prozentwert | D24: =IF(COUNTA('1_Daten'!C24)=1,D23/D22,"")
B26: =IF(COUNT(D24)=1,IF(D24>=0.695,"Niveau E",IF(D24<0.595,"Niveau G","Niveau M")),"")
B29: Gesamtergebnis Kompass 4:
B31: =IF(COUNT(H33)=1,IF(AND(H33>0.695,H35=0),Wording!A3,IF(H33<0.595,Wording!A1,Wording!A2)),"")
H33: =AVERAGE(D15,D24) -> #DIV/0!
H35: =IF(OR(B17="Niveau G",B26="Niveau G"),1, 0) -> 0

Sheet S17
B1: Kompass 4 - Ergebnisblatt
B2: Schuljahr: | C2: =IF(COUNTA('1_Daten'!C2)=1,'1_Daten'!C2,"") -> 2024/2025
B3: =IF(COUNTA('1_Daten'!C3)=1,'1_Daten'!C3,"")
B4: Lehrkraft: | C4: =IF(COUNTA('1_Daten'!C6)=1,'1_Daten'!C6,"")
B7: Name des Kindes
B8: =IF(COUNTA('1_Daten'!C25)=1, '1_Daten'!C25,"")
B11: Ergebnis in Deutsch:
B13: Mögliche Gesamtpunktzahl | D13: ='2_Deutsch'!R4 -> 33.5
B14: Erreichte Punktzahl | D14: =IF(COUNTA('1_Daten'!C25),'2_Deutsch'!R21,"")
B15: Prozentwert | D15: =IF(COUNTA('1_Daten'!C25)=1,D14/D13,"")
B17: =IF(COUNT(D15)=1,IF(D15>=0.695,"Niveau E",IF(D15<0.595,"Niveau G","Niveau M")),"")
B20: Ergebnis in Mathematik:
B22: Mögliche Gesamtpunktzahl | D22: ='3_Mathematik'!Y4 -> 31
B23: Erreichte Punktzahl | D23: =IF(COUNTA('1_Daten'!C25),'3_Mathematik'!Y21,"")
B24: Prozentwert | D24: =IF(COUNTA('1_Daten'!C25)=1,D23/D22,"")
B26: =IF(COUNT(D24)=1,IF(D24>=0.695,"Niveau E",IF(D24<0.595,"Niveau G","Niveau M")),"")
B29: Gesamtergebnis Kompass 4:
B31: =IF(COUNT(H33)=1,IF(AND(H33>0.695,H35=0),Wording!A3,IF(H33<0.595,Wording!A1,Wording!A2)),"")
H33: =AVERAGE(D15,D24) -> #DIV/0!
H35: =IF(OR(B17="Niveau G",B26="Niveau G"),1, 0) -> 0

Sheet S18
B1: Kompass 4 - Ergebnisblatt
B2: Schuljahr: | C2: =IF(COUNTA('1_Daten'!C2)=1,'1_Daten'!C2,"") -> 2024/2025
B3: =IF(COUNTA('1_Daten'!C3)=1,'1_Daten'!C3,"")
B4: Lehrkraft: | C4: =IF(COUNTA('1_Daten'!C6)=1,'1_Daten'!C6,"")
B7: Name des Kindes
B8: =IF(COUNTA('1_Daten'!C26)=1, '1_Daten'!C26,"")
B11: Ergebnis in Deutsch:
B13: Mögliche Gesamtpunktzahl | D13: ='2_Deutsch'!R4 -> 33.5
B14: Erreichte Punktzahl | D14: =IF(COUNTA('1_Daten'!C26),'2_Deutsch'!R22,"")
B15: Prozentwert | D15: =IF(COUNTA('1_Daten'!C26)=1,D14/D13,"")
B17: =IF(COUNT(D15)=1,IF(D15>=0.695,"Niveau E",IF(D15<0.595,"Niveau G","Niveau M")),"")
B20: Ergebnis in Mathematik:
B22: Mögliche Gesamtpunktzahl | D22: ='3_Mathematik'!Y4 -> 31
B23: Erreichte Punktzahl | D23: =IF(COUNTA('1_Daten'!C26),'3_Mathematik'!Y22,"")
B24: Prozentwert | D24: =IF(COUNTA('1_Daten'!C26)=1,D23/D22,"")
B26: =IF(COUNT(D24)=1,IF(D24>=0.695,"Niveau E",IF(D24<0.595,"Niveau G","Niveau M")),"")
B29: Gesamtergebnis Kompass 4:
B31: =IF(COUNT(H33)=1,IF(AND(H33>0.695,H35=0),Wording!A3,IF(H33<0.595,Wording!A1,Wording!A2)),"")
H33: =AVERAGE(D15,D24) -> #DIV/0!
H35: =IF(OR(B17="Niveau G",B26="Niveau G"),1, 0) -> 0

Sheet S19
B1: Kompass 4 - Ergebnisblatt
B2: Schuljahr: | C2: =IF(COUNTA('1_Daten'!C2)=1,'1_Daten'!C2,"") -> 2024/2025
B3: =IF(COUNTA('1_Daten'!C3)=1,'1_Daten'!C3,"")
B4: Lehrkraft: | C4: =IF(COUNTA('1_Daten'!C6)=1,'1_Daten'!C6,"")
B7: Name des Kindes
B8: =IF(COUNTA('1_Daten'!C27)=1, '1_Daten'!C27,"")
B11: Ergebnis in Deutsch:
B13: Mögliche Gesamtpunktzahl | D13: ='2_Deutsch'!R4 -> 33.5
B14: Erreichte Punktzahl | D14: =IF(COUNTA('1_Daten'!C27),'2_Deutsch'!R23,"")
B15: Prozentwert | D15: =IF(COUNTA('1_Daten'!C27)=1,D14/D13,"")
B17: =IF(COUNT(D15)=1,IF(D15>=0.695,"Niveau E",IF(D15<0.595,"Niveau G","Niveau M")),"")
B20: Ergebnis in Mathematik:
B22: Mögliche Gesamtpunktzahl | D22: ='3_Mathematik'!Y4 -> 31
B23: Erreichte Punktzahl | D23: =IF(COUNTA('1_Daten'!C27),'3_Mathematik'!Y23,"")
B24: Prozentwert | D24: =IF(COUNTA('1_Daten'!C27)=1,D23/D22,"")
B26: =IF(COUNT(D24)=1,IF(D24>=0.695,"Niveau E",IF(D24<0.595,"Niveau G","Niveau M")),"")
B29: Gesamtergebnis Kompass 4:
B31: =IF(COUNT(H33)=1,IF(AND(H33>0.695,H35=0),Wording!A3,IF(H33<0.595,Wording!A1,Wording!A2)),"")
H33: =AVERAGE(D15,D24) -> #DIV/0!
H35: =IF(OR(B17="Niveau G",B26="Niveau G"),1, 0) -> 0

Sheet S20
B1: Kompass 4 - Ergebnisblatt
B2: Schuljahr: | C2: =IF(COUNTA('1_Daten'!C2)=1,'1_Daten'!C2,"") -> 2024/2025
B3: =IF(COUNTA('1_Daten'!C3)=1,'1_Daten'!C3,"")
B4: Lehrkraft: | C4: =IF(COUNTA('1_Daten'!C6)=1,'1_Daten'!C6,"")
B7: Name des Kindes
B8: =IF(COUNTA('1_Daten'!C28)=1, '1_Daten'!C28,"")
B11: Ergebnis in Deutsch:
B13: Mögliche Gesamtpunktzahl | D13: ='2_Deutsch'!R4 -> 33.5
B14: Erreichte Punktzahl | D14: =IF(COUNTA('1_Daten'!C28),'2_Deutsch'!R24,"")
B15: Prozentwert | D15: =IF(COUNTA('1_Daten'!C28)=1,D14/D13,"")
B17: =IF(COUNT(D15)=1,IF(D15>=0.695,"Niveau E",IF(D15<0.595,"Niveau G","Niveau M")),"")
B20: Ergebnis in Mathematik:
B22: Mögliche Gesamtpunktzahl | D22: ='3_Mathematik'!Y4 -> 31
B23: Erreichte Punktzahl | D23: =IF(COUNTA('1_Daten'!C28),'3_Mathematik'!Y24,"")
B24: Prozentwert | D24: =IF(COUNTA('1_Daten'!C28)=1,D23/D22,"")
B26: =IF(COUNT(D24)=1,IF(D24>=0.695,"Niveau E",IF(D24<0.595,"Niveau G","Niveau M")),"")
B29: Gesamtergebnis Kompass 4:
B31: =IF(COUNT(H33)=1,IF(AND(H33>0.695,H35=0),Wording!A3,IF(H33<0.595,Wording!A1,Wording!A2)),"")
H33: =AVERAGE(D15,D24) -> #DIV/0!
H35: =IF(OR(B17="Niveau G",B26="Niveau G"),1, 0) -> 0

Sheet S21
B1: Kompass 4 - Ergebnisblatt
B2: Schuljahr: | C2: =IF(COUNTA('1_Daten'!C2)=1,'1_Daten'!C2,"") -> 2024/2025
B3: =IF(COUNTA('1_Daten'!C3)=1,'1_Daten'!C3,"")
B4: Lehrkraft: | C4: =IF(COUNTA('1_Daten'!C6)=1,'1_Daten'!C6,"")
B7: Name des Kindes
B8: =IF(COUNTA('1_Daten'!C29)=1, '1_Daten'!C29,"")
B11: Ergebnis in Deutsch:
B13: Mögliche Gesamtpunktzahl | D13: ='2_Deutsch'!R4 -> 33.5
B14: Erreichte Punktzahl | D14: =IF(COUNTA('1_Daten'!C29),'2_Deutsch'!R25,"")
B15: Prozentwert | D15: =IF(COUNTA('1_Daten'!C29)=1,D14/D13,"")
B17: =IF(COUNT(D15)=1,IF(D15>=0.695,"Niveau E",IF(D15<0.595,"Niveau G","Niveau M")),"")
B20: Ergebnis in Mathematik:
B22: Mögliche Gesamtpunktzahl | D22: ='3_Mathematik'!Y4 -> 31
B23: Erreichte Punktzahl | D23: =IF(COUNTA('1_Daten'!C29),'3_Mathematik'!Y25,"")
B24: Prozentwert | D24: =IF(COUNTA('1_Daten'!C29)=1,D23/D22,"")
B26: =IF(COUNT(D24)=1,IF(D24>=0.695,"Niveau E",IF(D24<0.595,"Niveau G","Niveau M")),"")
B29: Gesamtergebnis Kompass 4:
B31: =IF(COUNT(H33)=1,IF(AND(H33>0.695,H35=0),Wording!A3,IF(H33<0.595,Wording!A1,Wording!A2)),"")
H33: =AVERAGE(D15,D24) -> #DIV/0!
H35: =IF(OR(B17="Niveau G",B26="Niveau G"),1, 0) -> 0

Sheet S22
B1: Kompass 4 - Ergebnisblatt
B2: Schuljahr: | C2: =IF(COUNTA('1_Daten'!C2)=1,'1_Daten'!C2,"") -> 2024/2025
B3: =IF(COUNTA('1_Daten'!C3)=1,'1_Daten'!C3,"")
B4: Lehrkraft: | C4: =IF(COUNTA('1_Daten'!C6)=1,'1_Daten'!C6,"")
B7: Name des Kindes
B8: =IF(COUNTA('1_Daten'!C30)=1, '1_Daten'!C30,"")
B11: Ergebnis in Deutsch:
B13: Mögliche Gesamtpunktzahl | D13: ='2_Deutsch'!R4 -> 33.5
B14: Erreichte Punktzahl | D14: =IF(COUNTA('1_Daten'!C30),'2_Deutsch'!R26,"")
B15: Prozentwert | D15: =IF(COUNTA('1_Daten'!C30)=1,D14/D13,"")
B17: =IF(COUNT(D15)=1,IF(D15>=0.695,"Niveau E",IF(D15<0.595,"Niveau G","Niveau M")),"")
B20: Ergebnis in Mathematik:
B22: Mögliche Gesamtpunktzahl | D22: ='3_Mathematik'!Y4 -> 31
B23: Erreichte Punktzahl | D23: =IF(COUNTA('1_Daten'!C30),'3_Mathematik'!Y26,"")
B24: Prozentwert | D24: =IF(COUNTA('1_Daten'!C30)=1,D23/D22,"")
B26: =IF(COUNT(D24)=1,IF(D24>=0.695,"Niveau E",IF(D24<0.595,"Niveau G","Niveau M")),"")
B29: Gesamtergebnis Kompass 4:
B31: =IF(COUNT(H33)=1,IF(AND(H33>0.695,H35=0),Wording!A3,IF(H33<0.595,Wording!A1,Wording!A2)),"")
H33: =AVERAGE(D15,D24) -> #DIV/0!
H35: =IF(OR(B17="Niveau G",B26="Niveau G"),1, 0) -> 0

Sheet S23
B1: Kompass 4 - Ergebnisblatt
B2: Schuljahr: | C2: =IF(COUNTA('1_Daten'!C2)=1,'1_Daten'!C2,"") -> 2024/2025
B3: =IF(COUNTA('1_Daten'!C3)=1,'1_Daten'!C3,"")
B4: Lehrkraft: | C4: =IF(COUNTA('1_Daten'!C6)=1,'1_Daten'!C6,"")
B7: Name des Kindes
B8: =IF(COUNTA('1_Daten'!C31)=1, '1_Daten'!C31,"")
B11: Ergebnis in Deutsch:
B13: Mögliche Gesamtpunktzahl | D13: ='2_Deutsch'!R4 -> 33.5
B14: Erreichte Punktzahl | D14: =IF(COUNTA('1_Daten'!C31),'2_Deutsch'!R27,"")
B15: Prozentwert | D15: =IF(COUNTA('1_Daten'!C31)=1,D14/D13,"")
B17: =IF(COUNT(D15)=1,IF(D15>=0.695,"Niveau E",IF(D15<0.595,"Niveau G","Niveau M")),"")
B20: Ergebnis in Mathematik:
B22: Mögliche Gesamtpunktzahl | D22: ='3_Mathematik'!Y4 -> 31
B23: Erreichte Punktzahl | D23: =IF(COUNTA('1_Daten'!C31),'3_Mathematik'!Y27,"")
B24: Prozentwert | D24: =IF(COUNTA('1_Daten'!C31)=1,D23/D22,"")
B26: =IF(COUNT(D24)=1,IF(D24>=0.695,"Niveau E",IF(D24<0.595,"Niveau G","Niveau M")),"")
B29: Gesamtergebnis Kompass 4:
B31: =IF(COUNT(H33)=1,IF(AND(H33>0.695,H35=0),Wording!A3,IF(H33<0.595,Wording!A1,Wording!A2)),"")
H33: =AVERAGE(D15,D24) -> #DIV/0!
H35: =IF(OR(B17="Niveau G",B26="Niveau G"),1, 0) -> 0

Sheet S24
B1: Kompass 4 - Ergebnisblatt
B2: Schuljahr: | C2: =IF(COUNTA('1_Daten'!C2)=1,'1_Daten'!C2,"") -> 2024/2025
B3: =IF(COUNTA('1_Daten'!C3)=1,'1_Daten'!C3,"")
B4: Lehrkraft: | C4: =IF(COUNTA('1_Daten'!C6)=1,'1_Daten'!C6,"")
B7: Name des Kindes
B8: =IF(COUNTA('1_Daten'!C32)=1, '1_Daten'!C32,"")
B11: Ergebnis in Deutsch:
B13: Mögliche Gesamtpunktzahl | D13: ='2_Deutsch'!R4 -> 33.5
B14: Erreichte Punktzahl | D14: =IF(COUNTA('1_Daten'!C32),'2_Deutsch'!R28,"")
B15: Prozentwert | D15: =IF(COUNTA('1_Daten'!C32)=1,D14/D13,"")
B17: =IF(COUNT(D15)=1,IF(D15>=0.695,"Niveau E",IF(D15<0.595,"Niveau G","Niveau M")),"")
B20: Ergebnis in Mathematik:
B22: Mögliche Gesamtpunktzahl | D22: ='3_Mathematik'!Y4 -> 31
B23: Erreichte Punktzahl | D23: =IF(COUNTA('1_Daten'!C32),'3_Mathematik'!Y28,"")
B24: Prozentwert | D24: =IF(COUNTA('1_Daten'!C32)=1,D23/D22,"")
B26: =IF(COUNT(D24)=1,IF(D24>=0.695,"Niveau E",IF(D24<0.595,"Niveau G","Niveau M")),"")
B29: Gesamtergebnis Kompass 4:
B31: =IF(COUNT(H33)=1,IF(AND(H33>0.695,H35=0),Wording!A3,IF(H33<0.595,Wording!A1,Wording!A2)),"")
H33: =AVERAGE(D15,D24) -> #DIV/0!
H35: =IF(OR(B17="Niveau G",B26="Niveau G"),1, 0) -> 0

Sheet S25
B1: Kompass 4 - Ergebnisblatt
B2: Schuljahr: | C2: =IF(COUNTA('1_Daten'!C2)=1,'1_Daten'!C2,"") -> 2024/2025
B3: =IF(COUNTA('1_Daten'!C3)=1,'1_Daten'!C3,"")
B4: Lehrkraft: | C4: =IF(COUNTA('1_Daten'!C6)=1,'1_Daten'!C6,"")
B7: Name des Kindes
B8: =IF(COUNTA('1_Daten'!C33)=1, '1_Daten'!C33,"")
B11: Ergebnis in Deutsch:
B13: Mögliche Gesamtpunktzahl | D13: ='2_Deutsch'!R4 -> 33.5
B14: Erreichte Punktzahl | D14: =IF(COUNTA('1_Daten'!C33),'2_Deutsch'!R29,"")
B15: Prozentwert | D15: =IF(COUNTA('1_Daten'!C33)=1,D14/D13,"")
B17: =IF(COUNT(D15)=1,IF(D15>=0.695,"Niveau E",IF(D15<0.595,"Niveau G","Niveau M")),"")
B20: Ergebnis in Mathematik:
B22: Mögliche Gesamtpunktzahl | D22: ='3_Mathematik'!Y4 -> 31
B23: Erreichte Punktzahl | D23: =IF(COUNTA('1_Daten'!C33),'3_Mathematik'!Y29,"")
B24: Prozentwert | D24: =IF(COUNTA('1_Daten'!C33)=1,D23/D22,"")
B26: =IF(COUNT(D24)=1,IF(D24>=0.695,"Niveau E",IF(D24<0.595,"Niveau G","Niveau M")),"")
B29: Gesamtergebnis Kompass 4:
B31: =IF(COUNT(H33)=1,IF(AND(H33>0.695,H35=0),Wording!A3,IF(H33<0.595,Wording!A1,Wording!A2)),"")
H33: =AVERAGE(D15,D24) -> #DIV/0!
H35: =IF(OR(B17="Niveau G",B26="Niveau G"),1, 0) -> 0

Sheet S26
B1: Kompass 4 - Ergebnisblatt
B2: Schuljahr: | C2: =IF(COUNTA('1_Daten'!C2)=1,'1_Daten'!C2,"") -> 2024/2025
B3: =IF(COUNTA('1_Daten'!C3)=1,'1_Daten'!C3,"")
B4: Lehrkraft: | C4: =IF(COUNTA('1_Daten'!C6)=1,'1_Daten'!C6,"")
B7: Name des Kindes
B8: =IF(COUNTA('1_Daten'!C34)=1, '1_Daten'!C34,"")
B11: Ergebnis in Deutsch:
B13: Mögliche Gesamtpunktzahl | D13: ='2_Deutsch'!R4 -> 33.5
B14: Erreichte Punktzahl | D14: =IF(COUNTA('1_Daten'!C34),'2_Deutsch'!R30,"")
B15: Prozentwert | D15: =IF(COUNTA('1_Daten'!C34)=1,D14/D13,"")
B17: =IF(COUNT(D15)=1,IF(D15>=0.695,"Niveau E",IF(D15<0.595,"Niveau G","Niveau M")),"")
B20: Ergebnis in Mathematik:
B22: Mögliche Gesamtpunktzahl | D22: ='3_Mathematik'!Y4 -> 31
B23: Erreichte Punktzahl | D23: =IF(COUNTA('1_Daten'!C34),'3_Mathematik'!Y30,"")
B24: Prozentwert | D24: =IF(COUNTA('1_Daten'!C34)=1,D23/D22,"")
B26: =IF(COUNT(D24)=1,IF(D24>=0.695,"Niveau E",IF(D24<0.595,"Niveau G","Niveau M")),"")
B29: Gesamtergebnis Kompass 4:
B31: =IF(COUNT(H33)=1,IF(AND(H33>0.695,H35=0),Wording!A3,IF(H33<0.595,Wording!A1,Wording!A2)),"")
H33: =AVERAGE(D15,D24) -> #DIV/0!
H35: =IF(OR(B17="Niveau G",B26="Niveau G"),1, 0) -> 0

Sheet S27
B1: Kompass 4 - Ergebnisblatt
B2: Schuljahr: | C2: =IF(COUNTA('1_Daten'!C2)=1,'1_Daten'!C2,"") -> 2024/2025
B3: =IF(COUNTA('1_Daten'!C3)=1,'1_Daten'!C3,"")
B4: Lehrkraft: | C4: =IF(COUNTA('1_Daten'!C6)=1,'1_Daten'!C6,"")
B7: Name des Kindes
B8: =IF(COUNTA('1_Daten'!C35)=1, '1_Daten'!C35,"")
B11: Ergebnis in Deutsch:
B13: Mögliche Gesamtpunktzahl | D13: ='2_Deutsch'!R4 -> 33.5
B14: Erreichte Punktzahl | D14: =IF(COUNTA('1_Daten'!C35),'2_Deutsch'!R31,"")
B15: Prozentwert | D15: =IF(COUNTA('1_Daten'!C35)=1,D14/D13,"")
B17: =IF(COUNT(D15)=1,IF(D15>=0.695,"Niveau E",IF(D15<0.595,"Niveau G","Niveau M")),"")
B20: Ergebnis in Mathematik:
B22: Mögliche Gesamtpunktzahl | D22: ='3_Mathematik'!Y4 -> 31
B23: Erreichte Punktzahl | D23: =IF(COUNTA('1_Daten'!C35),'3_Mathematik'!Y31,"")
B24: Prozentwert | D24: =IF(COUNTA('1_Daten'!C35)=1,D23/D22,"")
B26: =IF(COUNT(D24)=1,IF(D24>=0.695,"Niveau E",IF(D24<0.595,"Niveau G","Niveau M")),"")
B29: Gesamtergebnis Kompass 4:
B31: =IF(COUNT(H33)=1,IF(AND(H33>0.695,H35=0),Wording!A3,IF(H33<0.595,Wording!A1,Wording!A2)),"")
H33: =AVERAGE(D15,D24) -> #DIV/0!
H35: =IF(OR(B17="Niveau G",B26="Niveau G"),1, 0) -> 0

Sheet S28
B1: Kompass 4 - Ergebnisblatt
B2: Schuljahr: | C2: =IF(COUNTA('1_Daten'!C2)=1,'1_Daten'!C2,"") -> 2024/2025
B3: =IF(COUNTA('1_Daten'!C3)=1,'1_Daten'!C3,"")
B4: Lehrkraft: | C4: =IF(COUNTA('1_Daten'!C6)=1,'1_Daten'!C6,"")
B7: Name des Kindes
B8: =IF(COUNTA('1_Daten'!C36)=1, '1_Daten'!C36,"")
B11: Ergebnis in Deutsch:
B13: Mögliche Gesamtpunktzahl | D13: ='2_Deutsch'!R4 -> 33.5
B14: Erreichte Punktzahl | D14: =IF(COUNTA('1_Daten'!C36),'2_Deutsch'!R32,"")
B15: Prozentwert | D15: =IF(COUNTA('1_Daten'!C36)=1,D14/D13,"")
B17: =IF(COUNT(D15)=1,IF(D15>=0.695,"Niveau E",IF(D15<0.595,"Niveau G","Niveau M")),"")
B20: Ergebnis in Mathematik:
B22: Mögliche Gesamtpunktzahl | D22: ='3_Mathematik'!Y4 -> 31
B23: Erreichte Punktzahl | D23: =IF(COUNTA('1_Daten'!C36),'3_Mathematik'!Y32,"")
B24: Prozentwert | D24: =IF(COUNTA('1_Daten'!C36)=1,D23/D22,"")
B26: =IF(COUNT(D24)=1,IF(D24>=0.695,"Niveau E",IF(D24<0.595,"Niveau G","Niveau M")),"")
B29: Gesamtergebnis Kompass 4:
B31: =IF(COUNT(H33)=1,IF(AND(H33>0.695,H35=0),Wording!A3,IF(H33<0.595,Wording!A1,Wording!A2)),"")
H33: =AVERAGE(D15,D24) -> #DIV/0!
H35: =IF(OR(B17="Niveau G",B26="Niveau G"),1, 0) -> 0

Sheet S29
B1: Kompass 4 - Ergebnisblatt
B2: Schuljahr: | C2: =IF(COUNTA('1_Daten'!C2)=1,'1_Daten'!C2,"") -> 2024/2025
B3: =IF(COUNTA('1_Daten'!C3)=1,'1_Daten'!C3,"")
B4: Lehrkraft: | C4: =IF(COUNTA('1_Daten'!C6)=1,'1_Daten'!C6,"")
B7: Name des Kindes
B8: =IF(COUNTA('1_Daten'!C37)=1, '1_Daten'!C37,"")
B11: Ergebnis in Deutsch:
B13: Mögliche Gesamtpunktzahl | D13: ='2_Deutsch'!R4 -> 33.5
B14: Erreichte Punktzahl | D14: =IF(COUNTA('1_Daten'!C37),'2_Deutsch'!R33,"")
B15: Prozentwert | D15: =IF(COUNTA('1_Daten'!C37)=1,D14/D13,"")
B17: =IF(COUNT(D15)=1,IF(D15>=0.695,"Niveau E",IF(D15<0.595,"Niveau G","Niveau M")),"")
B20: Ergebnis in Mathematik:
B22: Mögliche Gesamtpunktzahl | D22: ='3_Mathematik'!Y4 -> 31
B23: Erreichte Punktzahl | D23: =IF(COUNTA('1_Daten'!C37),'3_Mathematik'!Y33,"")
B24: Prozentwert | D24: =IF(COUNTA('1_Daten'!C37)=1,D23/D22,"")
B26: =IF(COUNT(D24)=1,IF(D24>=0.695,"Niveau E",IF(D24<0.595,"Niveau G","Niveau M")),"")
B29: Gesamtergebnis Kompass 4:
B31: =IF(COUNT(H33)=1,IF(AND(H33>0.695,H35=0),Wording!A3,IF(H33<0.595,Wording!A1,Wording!A2)),"")
H33: =AVERAGE(D15,D24) -> #DIV/0!
H35: =IF(OR(B17="Niveau G",B26="Niveau G"),1, 0) -> 0

Sheet S30
B1: Kompass 4 - Ergebnisblatt
B2: Schuljahr: | C2: =IF(COUNTA('1_Daten'!C2)=1,'1_Daten'!C2,"") -> 2024/2025
B3: =IF(COUNTA('1_Daten'!C3)=1,'1_Daten'!C3,"")
B4: Lehrkraft: | C4: =IF(COUNTA('1_Daten'!C6)=1,'1_Daten'!C6,"")
B7: Name des Kindes
B8: =IF(COUNTA('1_Daten'!C38)=1, '1_Daten'!C38,"")
B11: Ergebnis in Deutsch:
B13: Mögliche Gesamtpunktzahl | D13: ='2_Deutsch'!R4 -> 33.5
B14: Erreichte Punktzahl | D14: =IF(COUNTA('1_Daten'!C38),'2_Deutsch'!R34,"")
B15: Prozentwert | D15: =IF(COUNTA('1_Daten'!C38)=1,D14/D13,"")
B17: =IF(COUNT(D15)=1,IF(D15>=0.695,"Niveau E",IF(D15<0.595,"Niveau G","Niveau M")),"")
B20: Ergebnis in Mathematik:
B22: Mögliche Gesamtpunktzahl | D22: ='3_Mathematik'!Y4 -> 31
B23: Erreichte Punktzahl | D23: =IF(COUNTA('1_Daten'!C38),'3_Mathematik'!Y34,"")
B24: Prozentwert | D24: =IF(COUNTA('1_Daten'!C38)=1,D23/D22,"")
B26: =IF(COUNT(D24)=1,IF(D24>=0.695,"Niveau E",IF(D24<0.595,"Niveau G","Niveau M")),"")
B29: Gesamtergebnis Kompass 4:
B31: =IF(COUNT(H33)=1,IF(AND(H33>0.695,H35=0),Wording!A3,IF(H33<0.595,Wording!A1,Wording!A2)),"")
H33: =AVERAGE(D15,D24) -> #DIV/0!
H35: =IF(OR(B17="Niveau G",B26="Niveau G"),1, 0) -> 0

Sheet S31
B1: Kompass 4 - Ergebnisblatt
B2: Schuljahr: | C2: =IF(COUNTA('1_Daten'!C2)=1,'1_Daten'!C2,"") -> 2024/2025
B3: =IF(COUNTA('1_Daten'!C3)=1,'1_Daten'!C3,"")
B4: Lehrkraft: | C4: =IF(COUNTA('1_Daten'!C6)=1,'1_Daten'!C6,"")
B7: Name des Kindes
B8: =IF(COUNTA('1_Daten'!C39)=1, '1_Daten'!C39,"")
B11: Ergebnis in Deutsch:
B13: Mögliche Gesamtpunktzahl | D13: ='2_Deutsch'!R4 -> 33.5
B14: Erreichte Punktzahl | D14: =IF(COUNTA('1_Daten'!C39),'2_Deutsch'!R35,"")
B15: Prozentwert | D15: =IF(COUNTA('1_Daten'!C39)=1,D14/D13,"")
B17: =IF(COUNT(D15)=1,IF(D15>=0.695,"Niveau E",IF(D15<0.595,"Niveau G","Niveau M")),"")
B20: Ergebnis in Mathematik:
B22: Mögliche Gesamtpunktzahl | D22: ='3_Mathematik'!Y4 -> 31
B23: Erreichte Punktzahl | D23: =IF(COUNTA('1_Daten'!C39),'3_Mathematik'!Y35,"")
B24: Prozentwert | D24: =IF(COUNTA('1_Daten'!C39)=1,D23/D22,"")
B26: =IF(COUNT(D24)=1,IF(D24>=0.695,"Niveau E",IF(D24<0.595,"Niveau G","Niveau M")),"")
B29: Gesamtergebnis Kompass 4:
B31: =IF(COUNT(H33)=1,IF(AND(H33>0.695,H35=0),Wording!A3,IF(H33<0.595,Wording!A1,Wording!A2)),"")
H33: =AVERAGE(D15,D24) -> #DIV/0!
H35: =IF(OR(B17="Niveau G",B26="Niveau G"),1, 0) -> 0

Sheet S32
B1: Kompass 4 - Ergebnisblatt
B2: Schuljahr: | C2: =IF(COUNTA('1_Daten'!C2)=1,'1_Daten'!C2,"") -> 2024/2025
B3: =IF(COUNTA('1_Daten'!C3)=1,'1_Daten'!C3,"")
B4: Lehrkraft: | C4: =IF(COUNTA('1_Daten'!C6)=1,'1_Daten'!C6,"")
B7: Name des Kindes
B8: =IF(COUNTA('1_Daten'!C40)=1, '1_Daten'!C40,"")
B11: Ergebnis in Deutsch:
B13: Mögliche Gesamtpunktzahl | D13: ='2_Deutsch'!R4 -> 33.5
B14: Erreichte Punktzahl | D14: =IF(COUNTA('1_Daten'!C40),'2_Deutsch'!R36,"")
B15: Prozentwert | D15: =IF(COUNTA('1_Daten'!C40)=1,D14/D13,"")
B17: =IF(COUNT(D15)=1,IF(D15>=0.695,"Niveau E",IF(D15<0.595,"Niveau G","Niveau M")),"")
B20: Ergebnis in Mathematik:
B22: Mögliche Gesamtpunktzahl | D22: ='3_Mathematik'!Y4 -> 31
B23: Erreichte Punktzahl | D23: =IF(COUNTA('1_Daten'!C40),'3_Mathematik'!Y36,"")
B24: Prozentwert | D24: =IF(COUNTA('1_Daten'!C40)=1,D23/D22,"")
B26: =IF(COUNT(D24)=1,IF(D24>=0.695,"Niveau E",IF(D24<0.595,"Niveau G","Niveau M")),"")
B29: Gesamtergebnis Kompass 4:
B31: =IF(COUNT(H33)=1,IF(AND(H33>0.695,H35=0),Wording!A3,IF(H33<0.595,Wording!A1,Wording!A2)),"")
H33: =AVERAGE(D15,D24) -> #DIV/0!
H35: =IF(OR(B17="Niveau G",B26="Niveau G"),1, 0) -> 0
